BEGIN:VCALENDAR
VERSION:2.0
PRODID:-//Tukios.com/
BEGIN:VEVENT
UID:eda37ea3-614e-480d-a0c1-6bc61455d87d@www.colonialmemorialchapels.com
DTSTAMP:20260425T025855Z
DTSTART:20260429T150000Z
DTEND:20260429T160000Z
SUMMARY:Funeral Service
DESCRIPTION:
URL:https://www.colonialmemorialchapels.com/obituaries/rodna-tasseff
LOCATION:St. Stephen Serbian Orthodox Church 177 Weber Road  Lackawanna 
	NY 14218
GEO:42.8195519;-78.8026653
END:VEVENT
END:VCALENDAR