BEGIN:VCALENDAR
VERSION:2.0
PRODID:-//Tukios.com/
BEGIN:VEVENT
UID:3db1a457-d6a9-432a-abb8-ba4a7bcdbcbe@www.colonialmemorialchapels.com
DTSTAMP:20260425T025941Z
DTSTART:20260428T233000Z
DTEND:20260429T003000Z
SUMMARY:Prayer Service
DESCRIPTION:
URL:https://www.colonialmemorialchapels.com/obituaries/rodna-tasseff
LOCATION:Colonial Memorial Chapels 3003 South Park Avenue  Lackawanna NY 
	14218
GEO:42.8178926;-78.8244044
END:VEVENT
END:VCALENDAR