BEGIN:VCALENDAR
VERSION:2.0
PRODID:-//Tukios.com/
BEGIN:VEVENT
UID:8bde8329-d007-4e4a-a3fb-ce146875acdb@www.colonialmemorialchapels.com
DTSTAMP:20260425T025813Z
DTSTART:20260428T190000Z
DTEND:20260429T000000Z
SUMMARY:Visitation
DESCRIPTION:
URL:https://www.colonialmemorialchapels.com/obituaries/rodna-tasseff
LOCATION:Colonial Memorial Chapels 3003 South Park Avenue  Lackawanna NY 
	14218
GEO:42.8178926;-78.8244044
END:VEVENT
END:VCALENDAR