BEGIN:VCALENDAR
VERSION:2.0
PRODID:-//Tukios.com/
BEGIN:VEVENT
UID:b7a6f50b-aef9-4c46-998c-1e8ca06a8e08@www.colonialmemorialchapels.com
DTSTAMP:20260425T030130Z
DTSTART:20260427T210000Z
DTEND:20260428T000000Z
SUMMARY:Visitation
DESCRIPTION:
URL:https://www.colonialmemorialchapels.com/obituaries/rodna-tasseff
LOCATION:Colonial Memorial Chapels 3003 South Park Avenue  Lackawanna NY 
	14218
GEO:42.8178926;-78.8244044
END:VEVENT
END:VCALENDAR