BEGIN:VCALENDAR
VERSION:2.0
PRODID:-//Tukios.com/
BEGIN:VEVENT
UID:d030e7fc-537a-4543-972d-4e01eb9d9c53@www.colonialmemorialchapels.com
DTSTAMP:20260424T171726Z
DTSTART:20260428T150000Z
DTEND:20260428T160000Z
SUMMARY:Funeral Service
DESCRIPTION:
URL:https://www.colonialmemorialchapels.com/obituaries/esther-torres
LOCATION: 3003 South Park Ave  Lackawanna NY 14218
GEO:42.8178926;-78.8244044
END:VEVENT
END:VCALENDAR