BEGIN:VCALENDAR
VERSION:2.0
PRODID:-//Tukios.com/
BEGIN:VEVENT
UID:3957795c-fc5a-4f9d-bbca-ef17caed21d4@www.colonialmemorialchapels.com
DTSTAMP:20260424T171800Z
DTSTART:20260427T180000Z
DTEND:20260428T010000Z
SUMMARY:Visitation
DESCRIPTION:
URL:https://www.colonialmemorialchapels.com/obituaries/esther-torres
LOCATION: 3003 South Park Ave  Lackawanna NY 14218
GEO:42.8178926;-78.8244044
END:VEVENT
END:VCALENDAR